BEGIN:VCALENDAR
VERSION:2.0
PRODID:-//wp-events-plugin.com//7.2.3.1//EN
TZID:Europe/Paris
X-WR-TIMEZONE:Europe/Paris
BEGIN:VEVENT
UID:0-1852@lesenfantsterribles.ch
DTSTART;TZID=Europe/Zurich:20231004T153000
DTEND;TZID=Europe/Zurich:20231004T170000
DTSTAMP:20230914T210924Z
URL:https://lesenfantsterribles.ch/evenements/le-club-des-scientifiques-ju
 nior-des-7-ans-bee-bots-iii/
SUMMARY:Le club des scientifiques Junior (dès 7 ans) - Bee-Bots III
DESCRIPTION:Organisé par Les Enfants Terribles\, animé par Diana de Engli
 sh Book in Geneva\n\nCoder est dans la poche ! Maintenant que tu sais code
 r des histoires avec ton bee-bot\, viens pour ton premier défi : construi
 s un labyrinthe et code ton robot abeille pour qu'il en sorte sans se cogn
 er sur les murs ! (attention ! il est nécessaire d'avoir suivi l'atelier 
 Bee-Boots II).\n\nLe programme est composé de 3 ateliers\, pour 3 niveaux
  différents.\n\n20.09.2023 - Bee-Bots I\n27.09.2023 - Bee-Bots II\n04.10.
 2023 - Bee-Bots III\n\nInscription au programme complet des 3 ateliers obl
 igatoire.\nHoraire de 15h30 à 17h00\n(arrive à 15h00 et prends le goûte
 r avec nous : il te sera offert)\n\nInformations et inscriptions : contact
 @lesenfantsterribles.ch ou whatsapp : +41 76 616 63 38
CATEGORIES:ateliers ou cours,Enfants (5 à 10 ans)
LOCATION:L'Arcade des Enfants Terribles\, Rue du Gothard 1-3\, Chêne-Bourg
 \, Suisse\, 1225\, Genève \, Suisse
X-APPLE-STRUCTURED-LOCATION;VALUE=URI;X-ADDRESS=Rue du Gothard 1-3\, Chêne
 -Bourg\, Suisse\, 1225\, Genève \, Suisse;X-APPLE-RADIUS=100;X-TITLE=L'Ar
 cade des Enfants Terribles:geo:0,0
END:VEVENT
BEGIN:VTIMEZONE
TZID:Europe/Zurich
X-LIC-LOCATION:Europe/Zurich
BEGIN:DAYLIGHT
DTSTART:20230326T030000
TZOFFSETFROM:+0100
TZOFFSETTO:+0200
TZNAME:CEST
END:DAYLIGHT
END:VTIMEZONE
END:VCALENDAR